BEGIN:VCALENDAR
VERSION:2.0
PRODID:-//hacksw/handcal//NONSGML v1.0//EN
BEGIN:VEVENT
SUMMARY:COURS PARENTS ENFANT
UID:7cb2bd26-388d-4e64-924b-46e06c823b45
DTSTART:20260327T180000Z
DTEND:20260327T190000Z
LOCATION:Localisation   
CATEGORIES:Sportif
STATUS:
URL;VALUE=URI:https://jctt.sportsregions.fr/evenements/2026/03/27/cours-parents-enfant-2429068
END:VEVENT
BEGIN:VEVENT
SUMMARY:STAGE DE PAQUES
UID:4e1e55ea-2e0e-47ea-b2d5-4424cd3d49d2
DTSTART:20260407T070000Z
DTEND:20260408T150000Z
LOCATION:Localisation   
CATEGORIES:Sportif
STATUS:
URL;VALUE=URI:https://jctt.sportsregions.fr/evenements/2026/04/07/stage-de-paques-2429071
END:VEVENT
BEGIN:VEVENT
SUMMARY:PETIT-TIGRE ETOILES SUR RHONE
UID:98c5b746-7691-4b72-b706-d5cb53017cce
DTSTART:20260419T060000Z
DTEND:20260419T100000Z
LOCATION:Localisation   
CATEGORIES:Sportif
STATUS:
URL;VALUE=URI:https://jctt.sportsregions.fr/evenements/2026/04/19/petit-tigre-etoiles-sur-rhone-2434300
END:VEVENT
END:VCALENDAR
